BEGIN:VCALENDAR
VERSION:2.0
PRODID:-//ChamberMaster//Event Calendar 2.0//EN
METHOD:PUBLISH
X-PUBLISHED-TTL:P3D
REFRESH-INTERVAL:P3D
CALSCALE:GREGORIAN
BEGIN:VEVENT
DTSTART:20250412T170000Z
DTEND:20250412T190000Z
X-MICROSOFT-CDO-ALLDAYEVENT:FALSE
SUMMARY:The Brew-Masters Putting Contest 2025
DESCRIPTION:Put your putting skills to the test at Knuth Brewing Company's Brew-Masters Putting Contest!\n\nFrom Noon to 2 PM\, guests are invited to showcase their short game on our 4-hole course in\n\nthe Biergarten. Compete for the chance to win Knuth's version of the prestigious "Green Jacket"\n\nand a Knuth Brewing Co. gift card. Whether you're a seasoned golfer or just looking for a fun\n\nchallenge\, this event is the perfect way to kick off the festivities.
X-ALT-DESC;FMTTYPE=text/html:Put your putting skills to the test at Knuth Brewing Company&rsquo\;s Brew-Masters Putting Contest!<br />\nFrom Noon to 2 PM\, guests are invited to showcase their short game on our 4-hole course in<br />\nthe Biergarten. Compete for the chance to win Knuth&rsquo\;s version of the prestigious &ldquo\;Green Jacket&rdquo\;<br />\nand a Knuth Brewing Co. gift card. Whether you&rsquo\;re a seasoned golfer or just looking for a fun<br />\nchallenge\, this event is the perfect way to kick off the festivities.
LOCATION:Knuth Brewery Company 230 Watson Street Ripon\, WI 54971
UID:e.3664.839291
SEQUENCE:3
DTSTAMP:20260422T065917Z
URL:https://chamber.visitgreenlake.com/events/details/the-brew-masters-putting-contest-839291
END:VEVENT

END:VCALENDAR
