BEGIN:VCALENDAR
VERSION:2.0
PRODID:-//ChamberMaster//Event Calendar 2.0//EN
METHOD:PUBLISH
X-PUBLISHED-TTL:P3D
REFRESH-INTERVAL:P3D
CALSCALE:GREGORIAN
BEGIN:VEVENT
DTSTART:20250528T230000Z
DTEND:20250529T020000Z
X-MICROSOFT-CDO-ALLDAYEVENT:FALSE
SUMMARY:Studio Painting 1 with Oils 2025
DESCRIPTION:Whether you're embarking on your first creative journey or looking to refine your skills\, this 4-session workshop in oil painting offers the perfect opportunity to explore your artistic potential. In a warm and encouraging environment\, you'll learn about the fundamentals of oil painting the differences in brands of paint\, types of mediums\, linen structures versus canvas or board\, different application approaches all while creating your own stunning artwork. This workshop invites you to immerse yourself in the timeless medium of oils and unlock your creative expression. No prior experience required just a passion to paint!\n\n\n\nWednesdays\, May 28\, June 4 &18\, July 2\, 6 pm   9 pm (12 Total Hours)
X-ALT-DESC;FMTTYPE=text/html:<span style="color:rgb(0\, 0\, 0)\; font-family:libre franklin\; font-size:14px">Whether you&#39\;re embarking on your first creative journey or looking to refine your skills\, this 4-session workshop in oil painting offers the perfect opportunity to explore your artistic potential. In a warm and encouraging environment\, you&#39\;ll learn about the fundamentals of oil painting&mdash\;the differences in brands of paint\, types of mediums\, linen structures versus canvas or board\, different application approaches&mdash\;all while creating your own stunning artwork. This workshop invites you to immerse yourself in the timeless medium of oils and unlock your creative expression. No prior experience required&mdash\;just a passion to paint!<br />\n<br />\nWednesdays\, May 28\, June 4 &amp\;18\, July 2\, 6 pm &ndash\; 9 pm (12 Total Hours)</span>
LOCATION:Town Square Community Center-Makerspace
UID:e.3664.839299
SEQUENCE:3
DTSTAMP:20260422T065917Z
URL:https://chamber.visitgreenlake.com/events/details/studio-painting-1-with-oils-839299
END:VEVENT

END:VCALENDAR
