BEGIN:VCALENDAR
VERSION:2.0
PRODID:-//ChamberMaster//Event Calendar 2.0//EN
METHOD:PUBLISH
X-PUBLISHED-TTL:P3D
REFRESH-INTERVAL:P3D
CALSCALE:GREGORIAN
BEGIN:VEVENT
DTSTART:20250530T230000Z
DTEND:20250531T020000Z
X-MICROSOFT-CDO-ALLDAYEVENT:FALSE
SUMMARY:Studio Paining 1 with Acrylics 2025
DESCRIPTION:This "Creating Your Own Masterpiece with Acrylics" workshop invites novice and experienced painters to work through material options\, approaches\, and processes for composition development and planning in order to achieve desired goals for a finished painting. All aspects of painting in acrylic mediums will be explored. The foundation of the workshop will be to help participants discover "why they create" and "how to bring joy" to their daily lives. No prior experience required just a passion to paint!\n\n\n\nFridays\, May 30\, June 13 & 27\, July 11\, 6 - 9 pm (12 Total Hours)
X-ALT-DESC;FMTTYPE=text/html:<span style="color:rgb(0\, 0\, 0)\; font-family:libre franklin\; font-size:14px">This &ldquo\;Creating Your Own Masterpiece with Acrylics&rdquo\; workshop invites novice and experienced painters to work through material options\, approaches\, and processes for composition development and planning in order to achieve desired goals for a finished painting. All aspects of painting in acrylic mediums will be explored. The foundation of the workshop will be to help participants discover &ldquo\;why they create&rdquo\; and &ldquo\;how to bring joy&rdquo\; to their daily lives. No prior experience required&mdash\;just a passion to paint!<br />\n<br />\nFridays\, May 30\, June 13 &amp\; 27\, July 11\, 6 - 9 pm (12 Total Hours)</span>
LOCATION:Town Square Community Center-Makerspace
UID:e.3664.839300
SEQUENCE:3
DTSTAMP:20260422T065851Z
URL:https://chamber.visitgreenlake.com/events/details/studio-paining-1-with-acrylics-839300
END:VEVENT

END:VCALENDAR
