BEGIN:VCALENDAR
VERSION:2.0
PRODID:-//ChamberMaster//Event Calendar 2.0//EN
METHOD:PUBLISH
X-PUBLISHED-TTL:P3D
REFRESH-INTERVAL:P3D
CALSCALE:GREGORIAN
BEGIN:VEVENT
DTSTART:20250517T180000Z
DTEND:20250517T200000Z
X-MICROSOFT-CDO-ALLDAYEVENT:FALSE
SUMMARY:Potluck with a Purpose 2025
DESCRIPTION:Potluck with a Purpose Event! Lunch and Learn! Guest Speaker! When: Saturday May 17th\, 2025 Time: 1:00-4:00pm What to bring? Friends and family and a dish to pass (BYOB)
X-ALT-DESC;FMTTYPE=text/html:Potluck with a Purpose Event! Lunch and Learn! Guest Speaker! When: Saturday May 17th\, 2025 Time: 1:00-4:00pm What to bring? Friends and family and a dish to pass (BYOB)
LOCATION:Location: Good Trouble Grove N6498 State Road 49 Green Lake\, Wi 54941
UID:e.3664.839287
SEQUENCE:3
DTSTAMP:20260422T065735Z
URL:https://chamber.visitgreenlake.com/events/details/potluck-with-a-purpose-839287
END:VEVENT

END:VCALENDAR
