BEGIN:VCALENDAR
VERSION:2.0
PRODID:-//ChamberMaster//Event Calendar 2.0//EN
METHOD:PUBLISH
X-PUBLISHED-TTL:P3D
REFRESH-INTERVAL:P3D
CALSCALE:GREGORIAN
BEGIN:VEVENT
DTSTART:20250407T230000Z
DTEND:20250408T010000Z
X-MICROSOFT-CDO-ALLDAYEVENT:FALSE
SUMMARY:Photography Club 2025
DESCRIPTION:On Monday\, April 7\, Bob Haase will present a program on photographing birds in flight. He\n\nwill cover the basics on equipment and shooting techniques\, along with some tips to help\n\nincrease your keeper rate. The program will start at 6:30pm\, and there will be time at the end to ask any questions you may have on photographing birds in flight.\n\n\n\nThis is the monthly meeting for the Town Square Photographers\, but it is also open to the public for anyone interested in photography. The meeting will take place at Town Square in Green Lake. If you are interested in photography\, this is a great opportunity to learn more about wildlife and outdoor photography\, and meet other area photographers.\n\nFor questions\, call Harlan Barkley at 815-218-0034.
X-ALT-DESC;FMTTYPE=text/html:<p>On Monday\, April 7\, Bob Haase will present a program on photographing birds in flight. He<br />\nwill cover the basics on equipment and shooting techniques\, along with some tips to help<br />\nincrease your keeper rate. The program will start at 6:30pm\, and there will be time at the end to ask any questions you may have on photographing birds in flight.</p>\n\n<p><br />\nThis is the monthly meeting for the Town Square Photographers\, but it is also open to the public for anyone interested in photography. The meeting will take place at Town Square in Green Lake. If you are interested in photography\, this is a great opportunity to learn more about wildlife and outdoor photography\, and meet other area photographers.<br />\nFor questions\, call Harlan Barkley at 815-218-0034.</p>\n
LOCATION:Town Square Community Center-Club Room
UID:e.3664.838997
SEQUENCE:3
DTSTAMP:20260422T070122Z
URL:https://chamber.visitgreenlake.com/events/details/photography-club-838997
END:VEVENT

END:VCALENDAR
