BEGIN:VCALENDAR
VERSION:2.0
PRODID:-//ChamberMaster//Event Calendar 2.0//EN
METHOD:PUBLISH
X-PUBLISHED-TTL:P3D
REFRESH-INTERVAL:P3D
CALSCALE:GREGORIAN
BEGIN:VEVENT
DTSTART:20250524T190000Z
DTEND:20250524T220000Z
X-MICROSOFT-CDO-ALLDAYEVENT:FALSE
SUMMARY:Opening Party at Green Lake Marina 2025
DESCRIPTION:Join us on Saturday\, May 24th\, for our opening party! There will be be drinks\, snacks\, ice cream and new merchandise. Come check out our new docks at the marina and enjoy the weather and the view! This Open House event will be at the Marina from 2pm - 5pm. Cant wait to see you there!
X-ALT-DESC;FMTTYPE=text/html:Join us on Saturday\, May 24th\, for our opening party! There will be be drinks\, snacks\, ice cream and new merchandise. Come check out our new docks at the marina and enjoy the weather and the view! This Open House event will be at the Marina from 2pm - 5pm. Cant wait to see you there!&nbsp\;
LOCATION:Green Lake Marina 485 Park Drive Green Lake\, WI 54941
UID:e.3664.839675
SEQUENCE:3
DTSTAMP:20260422T070344Z
URL:https://chamber.visitgreenlake.com/events/details/opening-party-at-green-lake-marina-839675
END:VEVENT

END:VCALENDAR
