BEGIN:VCALENDAR
VERSION:2.0
PRODID:-//ChamberMaster//Event Calendar 2.0//EN
METHOD:PUBLISH
X-PUBLISHED-TTL:P3D
REFRESH-INTERVAL:P3D
CALSCALE:GREGORIAN
BEGIN:VEVENT
DTSTART:20250530T200000Z
DTEND:20250530T230000Z
X-MICROSOFT-CDO-ALLDAYEVENT:FALSE
SUMMARY:Market at Town Square 2025
DESCRIPTION:Celebrate the best of summer every Friday afternoon at Town Square's South Street Market! From May 23 through August 29\, stroll the outdoor market and explore fresh produce\, handmade goods\, local art\, baked treats\, and more all from local farmers\, growers\, and makers. With a welcoming community vibe\, it's the perfect way to kick off your weekend in Green Lake.\n\nInterested in becoming a vendor? Apply now at greenlaketownsquare.org/market!
X-ALT-DESC;FMTTYPE=text/html:<p>Celebrate the best of summer every Friday afternoon at Town Square&rsquo\;s South Street Market! From May 23 through August 29\, stroll the outdoor market and explore fresh produce\, handmade goods\, local art\, baked treats\, and more&mdash\;all from local farmers\, growers\, and makers. With a welcoming community vibe\, it&#39\;s the perfect way to kick off your weekend in Green Lake.</p>\n\n<p>Interested in becoming a vendor? Apply now at <a href="https://greenlaketownsquare.org/market" style="color: rgb(203\, 37\, 37)\; text-decoration: none\; padding-bottom: 0.05em\; border-bottom-width: 1px\; border-bottom-style: solid\; border-bottom-color: rgba(203\, 37\, 37\, 0.3)\; transition: border-color 0.15s ease-out 0s\, color 0.15s ease-out 0s\; overflow-wrap: break-word\;" target="_new">greenlaketownsquare.org/market</a>!</p>\n
LOCATION:Green Lake Town Square-Front Lawn
UID:e.3664.839395
SEQUENCE:3
DTSTAMP:20260422T070308Z
URL:https://chamber.visitgreenlake.com/events/details/market-at-town-square-05-30-2025-839395
END:VEVENT

END:VCALENDAR
