BEGIN:VCALENDAR
VERSION:2.0
PRODID:-//ChamberMaster//Event Calendar 2.0//EN
METHOD:PUBLISH
X-PUBLISHED-TTL:P3D
REFRESH-INTERVAL:P3D
CALSCALE:GREGORIAN
BEGIN:VEVENT
DTSTART:20250315T180000Z
DTEND:20250315T210000Z
X-MICROSOFT-CDO-ALLDAYEVENT:FALSE
SUMMARY:Locavore Select - Purple Thumb Lavender 2025
DESCRIPTION:Our Locavore Select on March 15th is Purple Thumb Lavender!\n\nPurple Thumb Lavender is owned by Mindy and Kristy\, the Purple Thumb Sisters.\n\nThey are a family run farm\, dedicated to bringing you the highest quality of lavender and lavender-made products.\n\nTheir farmland has been in the family for almost 50 years and has been the home base for growing their own produce as well as countless memories!\n\nVisit their website at: www.purplethumblavender.com\n\nLocavore Select is an exclusive new event series at Vines & Rushes Winery. Running most Saturdays from January through April 2025\, Locavore Select shines a spotlight on a different local vendor of homemade consumable products each week between 1pm and 4pm.\n\nStop by and support this wonderful local vendor while you do a wine tasting\, eat delicious pizza\, and listen to live music!\n\nSee you in March!
X-ALT-DESC;FMTTYPE=text/html:<div>Our Locavore Select on March 15th is Purple Thumb Lavender!</div>\n\n<div>Purple Thumb Lavender is owned by Mindy and Kristy\, the Purple Thumb Sisters.</div>\n\n<div>They are a family run farm\, dedicated to bringing you the highest quality of lavender and lavender-made products.<br />\nTheir farmland has been in the family for almost 50 years and has been the home base for growing their own produce as well as countless memories!</div>\n\n<div>Visit their website at:&nbsp\;<a class="x1i10hfl xjbqb8w x1ejq31n xd10rxx x1sy0etr x17r0tee x972fbf xcfux6l x1qhh985 xm0m39n x9f619 x1ypdohk xt0psk2 xe8uvvx xdj266r x11i5rnm xat24cr x1mh8g0r xexx8yu x4uap5 x18d9i69 xkhd6sd x16tdsg8 x1hl2dhg xggy1nq x1a2a7pz x1sur9pj xkrqix3 x1fey0fg x1s688f" href="https://l.facebook.com/l.php?u=http%3A%2F%2Fwww.purplethumblavender.com%2F%3Ffbclid%3DIwZXh0bgNhZW0CMTAAAR0uBHmAQyaM8mTeTBkEeNFmSwvXjvt6bLfKPYcEFUkV_chkQkoppgOWiJY_aem_Jvi8SO4Bwyx3SndKF6KWvA&amp\;h=AT1sN6a0jN4OFeSVxB52wlX-73HSD66wVYw3bm8gUeZrCZLEXEK6WNDddyqzZlGv9lP8KSsEvdV3eP0JcJ_7jVtHVrEUO2a5EFRiYV1hTP4hjtPadqeeE55eF46pSxpdUgkbem0&amp\;__tn__=q&amp\;c[0]=AT1UZleMyShhIKr3ZD4_bbDs73JskMXNMbcuGcviDKPJAlSy4O84_ueCdXXIt4ehEOC1EIjAnCfh3PUE4dTs7YdDoBpMFt5J3ohS3_E50U5Y2D-yLZhtROWRUqSZ_2g6IBBVOI_OsTQIoeyqs0UeJoVyv6KVITpoRwtOZA" rel="nofollow noreferrer" style="color: var(--blue-link)\; cursor: pointer\; text-decoration-line: none\; list-style: none\; margin: 0px\; text-align: inherit\; border-style: none\; padding: 0px\; box-sizing: border-box\; border-width: 0px\; outline: none\; -webkit-tap-highlight-color: transparent\; font-weight: 600\; touch-action: manipulation\; background-color: transparent\; display: inline\; font-family: inherit\;" tabindex="0" target="_blank">www.purplethumblavender.com</a></div>\n\n<div>Locavore Select is an exclusive new event series at Vines &amp\; Rushes Winery. Running most Saturdays from January through April 2025\, Locavore Select shines a spotlight on a different local vendor of homemade consumable products each week between 1pm and 4pm.</div>\n\n<div>Stop by and support this wonderful local vendor while you do a wine tasting\, eat delicious pizza\, and listen to live music!</div>\n\n<div>See you in March!&nbsp\;</div>\n
LOCATION:410 County Road E Ripon WI 54971
UID:e.3664.838517
SEQUENCE:3
DTSTAMP:20260420T084928Z
URL:https://chamber.visitgreenlake.com/events/details/locavore-select-purple-thumb-lavender-2025-838517
END:VEVENT

END:VCALENDAR
