BEGIN:VCALENDAR
VERSION:2.0
PRODID:-//ChamberMaster//Event Calendar 2.0//EN
METHOD:PUBLISH
X-PUBLISHED-TTL:P3D
REFRESH-INTERVAL:P3D
CALSCALE:GREGORIAN
BEGIN:VEVENT
DTSTART:20260306T233000Z
DTEND:20260307T023000Z
X-MICROSOFT-CDO-ALLDAYEVENT:FALSE
SUMMARY:Live Music featuring The Harmon Brothers
DESCRIPTION:The Harmon bros are a classic piano\, drums\, bass jazz trio. They play jazz music from many eras including Miles Davis to Stevie Wonder.\n\nThey are Noah Harmon on keys\, Zach Harmon on drums\, and Fred Velpel on bass and vox.\n\nSelect your favorite wine\, cider\, or Knuth Brewing Company craft beer\, custom order a wood fired pizza\, and sit back and enjoy the music.\n\nWood fired pizza is served from 4pm - 8pm
X-ALT-DESC;FMTTYPE=text/html:<div>The Harmon bros are a classic piano\, drums\, bass jazz trio. They play jazz music from many eras including Miles Davis to Stevie Wonder.<br />\nThey are Noah Harmon on keys\, Zach Harmon on drums\, and Fred Velpel on bass and vox.</div>\n\n<div>Select your favorite wine\, cider\, or Knuth Brewing Company craft beer\, custom order a wood fired pizza\, and sit back and enjoy the music.</div>\n\n<div>Wood fired pizza is served from 4pm - 8pm</div>\n
LOCATION:410 County Road E Ripon\, WI 54971
UID:e.3664.841764
SEQUENCE:3
DTSTAMP:20260421T083159Z
URL:https://chamber.visitgreenlake.com/events/details/live-music-featuring-the-harmon-brothers-841764
END:VEVENT

END:VCALENDAR
