BEGIN:VCALENDAR
VERSION:2.0
PRODID:-//ChamberMaster//Event Calendar 2.0//EN
METHOD:PUBLISH
X-PUBLISHED-TTL:P3D
REFRESH-INTERVAL:P3D
CALSCALE:GREGORIAN
BEGIN:VEVENT
DTSTART:20260425T190000Z
DTEND:20260425T220000Z
X-MICROSOFT-CDO-ALLDAYEVENT:FALSE
SUMMARY:Live Music featuring Kip Jones
DESCRIPTION:Kip Jones is a singer/songwriter who has been writing and performing songs from several genres\, focusing mainly on classic rock\, folk and country.\n\nGrab your favorite glass of wine\, cider\, or Knuth Brewing Company craft beer on tap\, sit back and enjoy the music!\n\nWood-fired pizza served 12pm - 8pm!
X-ALT-DESC;FMTTYPE=text/html:<p><strong>Kip Jones</strong>&nbsp\;is a singer/songwriter who has been writing and performing songs from several genres\, focusing mainly on classic rock\, folk and country.</p>\n\n<p>Grab your favorite glass of wine\, cider\, or Knuth Brewing Company craft beer on tap\, sit back and enjoy the music!</p>\n\n<p><strong>Wood-fired pizza served 12pm - 8pm!</strong></p>\n
LOCATION:410 County Road E Ripon\, WI 54971
UID:e.3664.841893
SEQUENCE:3
DTSTAMP:20260423T232433Z
URL:https://chamber.visitgreenlake.com/events/details/live-music-featuring-kip-jones-841893
END:VEVENT

END:VCALENDAR
