BEGIN:VCALENDAR
VERSION:2.0
PRODID:-//ChamberMaster//Event Calendar 2.0//EN
METHOD:PUBLISH
X-PUBLISHED-TTL:P3D
REFRESH-INTERVAL:P3D
CALSCALE:GREGORIAN
BEGIN:VEVENT
DTSTART:20260704T120000Z
DTEND:20260705T030000Z
X-MICROSOFT-CDO-ALLDAYEVENT:FALSE
SUMMARY:Light Up The Lake July 4th Celebration
DESCRIPTION:SMALL TOWN GREEN LAKE\, BIG CELEBRATION!\n\nThe Green Lake Area Chamber of Commerce will be providing a fun-filled day to celebrate America's 250th birthday in Deacon Mills Park and on Big Green. Please view the schedule below. \n\nFriday\, July 4th | Green Lake Festivities\n\nPancake Breakfast | 7:00 am - 11:00 am | American Legion Post 306\n\n4 on the 4th Reilly's Pub Run/Walk for Veterans | 8:30am | Reilly's Pub\n\nFood & Refreshments | 12:00pm | Deacon Mills Park\n\n--\n\nPurchase Ducks for the Race  (Ducks will be available for purchase at Adams Rib or GLACC Office starting Monday\, June 8th )\n\nPatriotic-Themed Boat Parade | 1:00pm - 2:00pm | Sunset Park to Deacon Mills Park\n\nChildren's Activities | 1:00pm - 4:00pm | Deacon Mills Park\n\nCattail Critters Petting Zoo \n\nDizzy the Balloon Twister\n\nLife's a Party Face Painting\n\nLive Entertainment by Big Shoes to Phil| 1:00pm - 4:00pm | Deacon Mills Park\n\nDuck Races | 3:00pm | Dartford Mill Pond Bridge\n\n4th of July Community Parade | 4:00pm | Downtown Green Lake\n\nLive Entertainment by Boomboxx | 5:30pm - 9:00pm | Deacon Mills Park\n\nFireworks | Dusk\n\nBest place to watch them? \n\n     - Deacon Mills Park (491 South Street\, Green Lake\, WI 54941)\n\n    - Hattie Sherwood Park (451 S Lawson Dr\, Green Lake\, WI 54941)\n\n    - Sunset Park (N5397 Co Rd A\, Green Lake\, WI 54941)\n\n    \n\n\n\nWant to donate to our Fireworks?\n\nPayable to: Oshkosh Area Community Foundation\n\nMail Check to: Green Lake Area Chamber of Commerce P.O. Box 337 Green Lake\, WI 54941\n\nOR  Click here!
X-ALT-DESC;FMTTYPE=text/html:<p><span style="font-family: arial\;"><span style="color: rgb(168\, 173\, 0)\;"><span style="font-size: 18px\;"><strong>SMALL TOWN GREEN LAKE\, BIG CELEBRATION!</strong></span></span></span></p>\n\n<p><span style="font-family: arial\;"><span style="color: rgb(74\, 79\, 84)\;"><span style="font-size: 14px\;">The Green Lake Area Chamber of Commerce will be providing a fun-filled day to celebrate </span></span><span style="color:#FF0000\;"><span style="font-size: 14px\;"><strong>America&#39\;s 250th&nbsp\;birthday</strong></span></span><span style="color: rgb(74\, 79\, 84)\;"><span style="font-size: 14px\;"> in Deacon Mills Park and on Big Green.&nbsp\;Please view the schedule below.&nbsp\;</span></span></span></p>\n\n<p style="color: rgb(255\, 255\, 255)\;"><span style="font-family: arial\;"><span style="color: rgb(168\, 173\, 0)\;"><span style="font-size: 16px\;"><span style="font-weight: 700\;">Friday\, July 4th | Green Lake Festivities</span></span></span></span></p>\n\n<p style="color: rgb(255\, 255\, 255)\;"><span style="font-family: arial\;"><span style="color: rgb(0\, 0\, 0)\;"><span style="font-weight: 700\;"><strong>Pancake Breakfast</strong>&nbsp\;|&nbsp\;</span>7:00 am - 11:00 am | American Legion Post 306</span></span></p>\n\n<p style="color: rgb(255\, 255\, 255)\;"><span style="font-family: arial\;"><span style="color: rgb(0\, 0\, 0)\;"><span style="font-weight: 700\;"><strong><a data-saferedirecturl="https://www.google.com/url?q=https://greenlake4on4th.com/&amp\;source=gmail&amp\;ust=1763045440651000&amp\;usg=AOvVaw2jMR3oMO4ibbz3uowYqTQo" href="https://greenlake4on4th.com/" target="_blank">4 on the 4th Reilly&#39\;s Pub Run/Walk for Veterans</a></strong>&nbsp\;|&nbsp\;</span></span></span><span style="font-family: arial\;"><span style="color: rgb(0\, 0\, 0)\;">8:30am | Reilly&#39\;s Pub</span></span></p>\n\n<p style="color: rgb(255\, 255\, 255)\;"><span style="font-family: arial\;"><span style="color: rgb(0\, 0\, 0)\;"><span style="font-weight: 700\;"><strong>Food &amp\; Refreshments</strong>&nbsp\;| 12:00pm</span>&nbsp\;| Deacon Mills Park</span></span><br />\n--<br />\n<span style="font-family: arial\;"><span style="color: rgb(0\, 0\, 0)\;"><span style="font-weight: 700\;"><strong>Purchase Ducks for the Race</strong>&nbsp\;</span>&nbsp\;<span style="font-style: italic\;">(Ducks will be&nbsp\;available for purchase at Adams Rib or GLACC Office starting Monday\, June 8th )</span></span></span></p>\n\n<p style="color: rgb(255\, 255\, 255)\;"><span style="font-family: arial\;"><span style="color: rgb(0\, 0\, 0)\;"><span style="font-weight: 700\;">Patriotic-Themed Boat Parade |&nbsp\;</span>1:00pm - 2:00pm | Sunset Park to Deacon Mills Park</span></span></p>\n\n<p><span style="color: rgb(255\, 255\, 255)\; font-family: arial\;"><span style="color: rgb(0\, 0\, 0)\;"><span style="font-weight: 700\;"><strong>Children&#39\;s Activities</strong>&nbsp\;|&nbsp\;</span></span></span><span style="color: rgb(0\, 0\, 0)\; font-family: arial\;">1:00pm - 4:00pm | Deacon Mills Park</span><br />\n<font color="#000000"><i>Cattail&nbsp\;Critters Petting Zoo&nbsp\;<br />\nDizzy the Balloon Twister<br />\nLife&#39\;s a Party Face Painting</i></font></p>\n\n<p style="color: rgb(255\, 255\, 255)\;"><span style="font-family: arial\;"><span style="color: rgb(0\, 0\, 0)\;"><strong>Live Entertainment by Big Shoes to Phil</strong><b>|&nbsp\;</b>1:00pm - 4:00pm | Deacon Mills Park</span></span></p>\n\n<p style="color: rgb(255\, 255\, 255)\;"><span style="font-family: arial\;"><span style="color: rgb(0\, 0\, 0)\;"><span style="font-weight: 700\;"><strong>Duck Races&nbsp\;</strong>|&nbsp\;</span>3:00pm | Dartford Mill Pond Bridge</span></span></p>\n\n<p style="color: rgb(255\, 255\, 255)\;"><span style="font-family: arial\;"><span style="color: rgb(0\, 0\, 0)\;"><span style="font-weight: 700\;"><strong>4th of July Community Parade</strong>&nbsp\;|&nbsp\;</span>4:00pm | Downtown Green Lake</span></span></p>\n\n<p style="color: rgb(255\, 255\, 255)\;"><span style="font-family: arial\;"><span style="color: rgb(0\, 0\, 0)\;"><span style="font-weight: 700\;"><strong>Live Entertainment by Boomboxx&nbsp\;</strong>|&nbsp\;</span>5:30pm - 9:00pm | Deacon Mills Park</span></span></p>\n\n<p style="color: rgb(255\, 255\, 255)\;"><span style="font-family: arial\;"><span style="color: rgb(0\, 0\, 0)\;"><span style="font-weight: 700\;">Fireworks |&nbsp\;</span>Dusk<br />\n<em>Best place to watch them?&nbsp\;<br />\n&nbsp\; &nbsp\; &nbsp\;- Deacon Mills Park&nbsp\;</em></span></span><span style="color: rgb(0\, 0\, 0)\;"><span style="font-size: 14px\;">(491 South Street\, Green Lake\, WI 54941)</span></span><br />\n<span style="font-family: arial\;"><span style="color: rgb(0\, 0\, 0)\;"><em>&nbsp\; &nbsp\; - Hattie Sherwood Park (</em></span></span><span style="color: rgb(31\, 31\, 31)\; font-family: Roboto\, Arial\, sans-serif\; font-size: 14px\;">451 S Lawson Dr\, Green Lake\, WI 54941)</span><br />\n<span style="font-family: arial\;"><span style="color: rgb(0\, 0\, 0)\;"><em>&nbsp\; &nbsp\; - Sunset Park (</em></span></span><span style="color: rgb(31\, 31\, 31)\; font-family: Roboto\, Arial\, sans-serif\; font-size: 14px\;">N5397 Co Rd A\, Green Lake\, WI 54941)</span><br />\n&nbsp\;&nbsp\;&nbsp\;&nbsp\;<br />\n<br />\n<span style="font-family: arial\;"><span style="color: rgb(0\, 0\, 0)\;"><em>Want to donate to our Fireworks?<br />\n<strong>Payable to:&nbsp\;</strong>Oshkosh Area Community Foundation<br />\n<strong>Mail Check to:&nbsp\;</strong>Green Lake Area Chamber of Commerce P.O. Box 337 Green Lake\, WI 54941<br />\n<strong>OR&nbsp\;</strong>&nbsp\;<a data-saferedirecturl="https://www.google.com/url?q=https://visitgreenlake.com/donate/&amp\;source=gmail&amp\;ust=1763045440652000&amp\;usg=AOvVaw19ID9r8u14Ro-a-_udAbbW" href="https://visitgreenlake.com/donate/" target="_blank">Click here</a>!</em></span></span></p>\n
LOCATION:Downtown Green Lake Deacon Mills Park Dartford Mill Pond
UID:e.3664.840125
SEQUENCE:3
DTSTAMP:20260420T085013Z
URL:https://chamber.visitgreenlake.com/events/details/light-up-the-lake-july-4th-celebration-840125
END:VEVENT

END:VCALENDAR
