BEGIN:VCALENDAR
VERSION:2.0
PRODID:-//ChamberMaster//Event Calendar 2.0//EN
METHOD:PUBLISH
X-PUBLISHED-TTL:P3D
REFRESH-INTERVAL:P3D
CALSCALE:GREGORIAN
BEGIN:VEVENT
DTSTART:20250423T230000Z
DTEND:20250424T013000Z
X-MICROSOFT-CDO-ALLDAYEVENT:FALSE
SUMMARY:"Let's Hop to It" Cooking Class April 2025
DESCRIPTION:Kathy McCarthy from Mill Street Haven and Cooking School has found some amazing recipes that she has tested in her home kitchen\, and in turn share with you.\n\nEnjoy this hands-on cooking experience\, where you will learn preparation and cooking techniques. Plus\, you get to take the recipes home\, prepare the same delicious food and share with your family and friends!\n\nAfter the food is prepared\, enjoy each course paired with a Vines & Rushes Winery wine. All of this for only $40!\n\nApril 2025 Menu:\n\n\n	\n	Spinach Artichoke Bites\n	\n	\n	Cheesy Broccoli-Cheddar Orzo\n	\n	\n	Pretzel Crusted Chicken\n	\n	\n	Key Lime Pie in a Jar\n	\n\n\nDon't hesitate\, these classes fill up very quickly!
X-ALT-DESC;FMTTYPE=text/html:<p><strong>Kathy McCarthy</strong> from Mill Street Haven and Cooking School has found some amazing recipes that she has tested in her home kitchen\, and in turn share with you.</p>\n\n<p>Enjoy this hands-on cooking experience\, where you will learn preparation and cooking techniques. Plus\, you get to take the recipes home\, prepare the same delicious food and share with your family and friends!</p>\n\n<p>After the food is prepared\, enjoy each course paired with a Vines &amp\; Rushes Winery wine. All of this for only $40!</p>\n\n<p><strong>April 2025 Menu:</strong></p>\n\n<ul>\n	<li>\n	<p>Spinach Artichoke Bites</p>\n	</li>\n	<li>\n	<p>Cheesy Broccoli-Cheddar Orzo</p>\n	</li>\n	<li>\n	<p>Pretzel Crusted Chicken</p>\n	</li>\n	<li>\n	<p>Key Lime Pie in a Jar</p>\n	</li>\n</ul>\n\n<p>Don&rsquo\;t hesitate\, these classes fill up very quickly!</p>\n
LOCATION:410 County Road E Ripon WI 54971
UID:e.3664.839330
SEQUENCE:3
DTSTAMP:20260422T085514Z
URL:https://chamber.visitgreenlake.com/events/details/let-s-hop-to-it-cooking-class-april-2025-839330
END:VEVENT

END:VCALENDAR
