BEGIN:VCALENDAR
VERSION:2.0
PRODID:-//ChamberMaster//Event Calendar 2.0//EN
METHOD:PUBLISH
X-PUBLISHED-TTL:P3D
REFRESH-INTERVAL:P3D
CALSCALE:GREGORIAN
BEGIN:VEVENT
DTSTART:20250522T220000Z
DTEND:20250523T000000Z
X-MICROSOFT-CDO-ALLDAYEVENT:FALSE
SUMMARY:Emmer Loves Local 2025
DESCRIPTION:Join Us for the 9th Annual EMMER LOVES LOCAL!\n\n \n\nMusic\, drinks\, food\, and fun it's all on us! Why? Because Emmer loves local\, and we're celebrating our incredible Green Lake community.\n\n \n\nThursday\, May 22\n\n5:00-7:00 PM\n\n\n\nAmerican Legion Post 306\n\n518 Water St\, Green Lake\, WI 5494\n\n \n\nKick off the summer with the Emmer Real Estate Group and enjoy an evening of great company\, delicious bites\, and refreshing drinks. Don't miss out this year it's the perfect chance to connect\, unwind\, and celebrate what makes Green Lake so special!\n\n \n\nCome and go as you please but trust us\, you won't want to miss it!
X-ALT-DESC;FMTTYPE=text/html:<div>Join Us for the 9th Annual EMMER LOVES LOCAL!<br />\n&nbsp\;</div>\n\n<div>Music\, drinks\, food\, and fun&mdash\;it&rsquo\;s all on us! Why? Because Emmer loves local\, and we&rsquo\;re celebrating our incredible Green Lake community.<br />\n&nbsp\;</div>\n\n<div>Thursday\, May 22<br />\n5:00-7:00 PM<br />\n<br />\nAmerican Legion Post 306<br />\n518 Water St\, Green Lake\, WI 5494<br />\n&nbsp\;</div>\n\n<div>Kick off the summer with the Emmer Real Estate Group and enjoy an evening of great company\, delicious bites\, and refreshing drinks. Don&rsquo\;t miss out this year&mdash\;it&rsquo\;s the perfect chance to connect\, unwind\, and celebrate what makes Green Lake so special!<br />\n&nbsp\;</div>\n\n<div>Come and go as you please&mdash\;but trust us\, you won&rsquo\;t want to miss it!&nbsp\;</div>\n
LOCATION:American Legion Post 306 518 Water St. Green Lake\, WI 54941
UID:e.3664.839289
SEQUENCE:3
DTSTAMP:20260422T070122Z
URL:https://chamber.visitgreenlake.com/events/details/emmer-loves-local-2025-839289
END:VEVENT

END:VCALENDAR
