BEGIN:VCALENDAR
VERSION:2.0
PRODID:-//ChamberMaster//Event Calendar 2.0//EN
METHOD:PUBLISH
X-PUBLISHED-TTL:P3D
REFRESH-INTERVAL:P3D
CALSCALE:GREGORIAN
BEGIN:VEVENT
DTSTART:20261113T223000Z
DTEND:20261114T020000Z
X-MICROSOFT-CDO-ALLDAYEVENT:FALSE
SUMMARY:Craft Beer Walk in Downtown Green Lake
DESCRIPTION:MORE INFORMATION COMING SOON!
X-ALT-DESC;FMTTYPE=text/html:<font color="#000000"><b>MORE INFORMATION COMING SOON!</b></font>
LOCATION:
UID:e.3664.840506
SEQUENCE:3
DTSTAMP:20260420T085308Z
URL:https://chamber.visitgreenlake.com/events/details/craft-beer-walk-in-downtown-green-lake-840506
END:VEVENT

END:VCALENDAR
