BEGIN:VCALENDAR
VERSION:2.0
PRODID:-//ChamberMaster//Event Calendar 2.0//EN
METHOD:PUBLISH
X-PUBLISHED-TTL:P3D
REFRESH-INTERVAL:P3D
CALSCALE:GREGORIAN
BEGIN:VEVENT
DTSTART:20250510T150000Z
DTEND:20250510T210000Z
X-MICROSOFT-CDO-ALLDAYEVENT:FALSE
SUMMARY:Artisan Marketplace - May 2025
DESCRIPTION:Our next Artisan Marketplace is just in time to purchase that perfect Mother's Day present!\n\nThe vineyard\, patio\, and great room will house a plethora of vendors who will have beautiful handcrafted items available to purchase as a gift\, or for yourself!\n\nParticipating Vendors: Between The Cedars\, Dinnerwear Flower Garden Decorations\, Pallet-2-Pallet LLC\, The Curated Carrot\, C & M Quilting\, Beadacious\, Cozy Outdoor Wear\, Ferrels Flock\, Grand River Pottery\, Eve's Creations\, Upcycled\, JLee - Wearable Art Studio\, Sea Glass & Pebbles\, Flying K\, P's and Q's Creative Design\, Auburn Woods Wisconsin\, Lynn's Wood Turnings\, Mark Spanbauer\, Stella Blu Bohemian Boutique\, The Shattered Brush\, Custom Cabinetry by Tony\, Grace + Joy Collective\, & Olianna Jewels\n\nWood fired pizza service 11am to 8pm\, pair with your favorite Vines & Rushes wine or Knuth's Craft Beer.\n\nStop by and shop\, shop\, shop!
X-ALT-DESC;FMTTYPE=text/html:<div>Our next Artisan Marketplace is just in time to purchase that perfect Mother&#39\;s Day present!</div>\n\n<div>The vineyard\, patio\, and great room will house a plethora of vendors who will have beautiful handcrafted items available to purchase as a gift\, or for yourself!</div>\n\n<div>Participating Vendors: Between The Cedars\, Dinnerwear Flower Garden Decorations\, Pallet-2-Pallet LLC\, The Curated Carrot\, C &amp\; M Quilting\, Beadacious\, Cozy Outdoor Wear\, Ferrels Flock\, Grand River Pottery\, Eve&#39\;s Creations\, Upcycled\, JLee - Wearable Art Studio\, Sea Glass &amp\; Pebbles\, Flying K\, P&#39\;s and Q&#39\;s Creative Design\, Auburn Woods Wisconsin\, Lynn&#39\;s Wood Turnings\, Mark Spanbauer\, Stella Blu Bohemian Boutique\, The Shattered Brush\, Custom Cabinetry by Tony\, Grace + Joy Collective\, &amp\; Olianna Jewels</div>\n\n<div>Wood fired pizza service 11am to 8pm\, pair with your favorite Vines &amp\; Rushes wine or Knuth&#39\;s Craft Beer.</div>\n\n<div>Stop by and shop\, shop\, shop!</div>\n
LOCATION:410 County Road E Ripon WI 54971
UID:e.3664.839344
SEQUENCE:3
DTSTAMP:20260422T070152Z
URL:https://chamber.visitgreenlake.com/events/details/artisan-marketplace-may-2025-839344
END:VEVENT

END:VCALENDAR
